BEGIN:VCALENDAR
VERSION:2.0
PRODID:-//The National Crime Victim Bar Association - ECPv6.15.20//NONSGML v1.0//EN
CALSCALE:GREGORIAN
METHOD:PUBLISH
X-ORIGINAL-URL:https://victimbar.org
X-WR-CALDESC:Events for The National Crime Victim Bar Association
REFRESH-INTERVAL;VALUE=DURATION:PT1H
X-Robots-Tag:noindex
X-PUBLISHED-TTL:PT1H
BEGIN:VTIMEZONE
TZID:America/New_York
BEGIN:DAYLIGHT
TZOFFSETFROM:-0500
TZOFFSETTO:-0400
TZNAME:EDT
DTSTART:20180311T070000
END:DAYLIGHT
BEGIN:STANDARD
TZOFFSETFROM:-0400
TZOFFSETTO:-0500
TZNAME:EST
DTSTART:20181104T060000
END:STANDARD
BEGIN:DAYLIGHT
TZOFFSETFROM:-0500
TZOFFSETTO:-0400
TZNAME:EDT
DTSTART:20190310T070000
END:DAYLIGHT
BEGIN:STANDARD
TZOFFSETFROM:-0400
TZOFFSETTO:-0500
TZNAME:EST
DTSTART:20191103T060000
END:STANDARD
BEGIN:DAYLIGHT
TZOFFSETFROM:-0500
TZOFFSETTO:-0400
TZNAME:EDT
DTSTART:20200308T070000
END:DAYLIGHT
BEGIN:STANDARD
TZOFFSETFROM:-0400
TZOFFSETTO:-0500
TZNAME:EST
DTSTART:20201101T060000
END:STANDARD
BEGIN:DAYLIGHT
TZOFFSETFROM:-0500
TZOFFSETTO:-0400
TZNAME:EDT
DTSTART:20210314T070000
END:DAYLIGHT
BEGIN:STANDARD
TZOFFSETFROM:-0400
TZOFFSETTO:-0500
TZNAME:EST
DTSTART:20211107T060000
END:STANDARD
BEGIN:DAYLIGHT
TZOFFSETFROM:-0500
TZOFFSETTO:-0400
TZNAME:EDT
DTSTART:20220313T070000
END:DAYLIGHT
BEGIN:STANDARD
TZOFFSETFROM:-0400
TZOFFSETTO:-0500
TZNAME:EST
DTSTART:20221106T060000
END:STANDARD
BEGIN:DAYLIGHT
TZOFFSETFROM:-0500
TZOFFSETTO:-0400
TZNAME:EDT
DTSTART:20230312T070000
END:DAYLIGHT
BEGIN:STANDARD
TZOFFSETFROM:-0400
TZOFFSETTO:-0500
TZNAME:EST
DTSTART:20231105T060000
END:STANDARD
BEGIN:DAYLIGHT
TZOFFSETFROM:-0500
TZOFFSETTO:-0400
TZNAME:EDT
DTSTART:20240310T070000
END:DAYLIGHT
BEGIN:STANDARD
TZOFFSETFROM:-0400
TZOFFSETTO:-0500
TZNAME:EST
DTSTART:20241103T060000
END:STANDARD
END:VTIMEZONE
BEGIN:VEVENT
DTSTART;TZID=America/New_York:20230427T100000
DTEND;TZID=America/New_York:20230427T160000
DTSTAMP:20260422T143809
CREATED:20230208T202920Z
LAST-MODIFIED:20230308T190857Z
UID:18655-1682589600-1682611200@victimbar.org
SUMMARY:Civil Justice for Victims of Crime in Morgantown\, WV
DESCRIPTION:Many victims of crime do not pursue civil remedies because they are not aware of the benefits that the civil justice system can offer. Educated victim service providers are a key to raising awareness among victims about their civil justice rights. Because of this\, the National Crime Victim Bar Association\, NCVBA\, offers free\, full day\, civil justice seminars across the nation in order to educate victim service providers and advocates. The seminars provide a basic overview of the civil justice system so that advocates can inform victims of appropriate legal services and remedies to help them rebuild their lives. \nTo register for the event\, please visit here. \nIf you have questions or concerns regarding the event or registration\, please reach out to Christa Andersen at candersen@victimsofcrime.org.
URL:https://victimbar.org/event/civil-justice-for-victims-of-crime-in-morgantown/
LOCATION:West Virginia University Erickson Alumni Center\, 1 Alumni Dr\, Morgantown\, West Virginia\, 26506
CATEGORIES:CJS
ATTACH;FMTTYPE=image/png:https://victimbar.org/wp-content/uploads/2023/02/CJS-morgantown.png
END:VEVENT
BEGIN:VEVENT
DTSTART;TZID=America/New_York:20230425T100000
DTEND;TZID=America/New_York:20230425T160000
DTSTAMP:20260422T143809
CREATED:20230208T203846Z
LAST-MODIFIED:20230308T194643Z
UID:18662-1682416800-1682438400@victimbar.org
SUMMARY:Civil Justice for Victims of Crime in Pittsburgh\, PA
DESCRIPTION:Many victims of crime do not pursue civil remedies because they are not aware of the benefits that the civil justice system can offer. Educated victim service providers are a key to raising awareness among victims about their civil justice rights. Because of this\, the National Crime Victim Bar Association\, NCVBA\, offers free\, full day\, civil justice seminars across the nation in order to educate victim service providers and advocates. The seminars provide a basic overview of the civil justice system so that advocates can inform victims of appropriate legal services and remedies to help them rebuild their lives. \nYou can register at the link here. \nIf you have any issues with registration\, please reach out to Christa Andersen at candersen@victimsofcrime.org.
URL:https://victimbar.org/event/civil-justice-for-victims-of-crime-in-pittsburgh/
LOCATION:Center for Victims\, 3433 East Carson St\, Pittsburgh\, PA\, 15203\, United States
CATEGORIES:CJS
ATTACH;FMTTYPE=image/png:https://victimbar.org/wp-content/uploads/2023/02/CJS-pittsburgh.png
END:VEVENT
BEGIN:VEVENT
DTSTART;TZID=America/New_York:20220203T100000
DTEND;TZID=America/New_York:20220203T160000
DTSTAMP:20260422T143809
CREATED:20210617T141855Z
LAST-MODIFIED:20220120T173633Z
UID:11770-1643882400-1643904000@victimbar.org
SUMMARY:Civil Justice for Victims of Crime in West Virginia
DESCRIPTION:Many victims of crime do not pursue civil remedies because they are not aware of the benefits that the civil justice system can offer. Educated victim service providers are a key to raising awareness among victims about their civil justice rights. Because of this\, the National Crime Victim Bar Association\, NCVBA\, offers free\, full day\, civil justice seminars across the nation in order to educate victim service providers and advocates. The seminars provide a basic overview of the civil justice system so that advocates can inform victims of appropriate legal services and remedies to help them rebuild their lives.
URL:https://victimbar.org/event/civil-justice-for-victims-of-crime-in-west-virginia-2/
LOCATION:Charleston Coliseum & Convention Center\, 200 Civic Center Drive\, Charleston\, 25301
CATEGORIES:CJS
END:VEVENT
BEGIN:VEVENT
DTSTART;TZID=America/New_York:20210909T100000
DTEND;TZID=America/New_York:20210909T160000
DTSTAMP:20260422T143809
CREATED:20210624T173201Z
LAST-MODIFIED:20210729T191215Z
UID:11880-1631181600-1631203200@victimbar.org
SUMMARY:Civil Justice for Victims of Crime in Georgia
DESCRIPTION:Many victims of crime do not pursue civil remedies because they are not aware of the benefits that the civil justice system can offer. Educated victim service providers are a key to raising awareness among victims about their civil justice rights. Because of this\, the National Crime Victim Bar Association\, NCVBA\, offers free\, full day\, civil justice seminars across the nation in order to educate victim service providers and advocates. The seminars provide a basic overview of the civil justice system so that advocates can inform victims of appropriate legal services and remedies to help them rebuild their lives.
URL:https://victimbar.org/event/civil-justice-for-victims-of-crime-in-georgia/
LOCATION:Georgia State University College of Law\, 85 Park Place NE\, Atlanta\, Georgia\, 30303
CATEGORIES:CJS
END:VEVENT
BEGIN:VEVENT
DTSTART;TZID=America/New_York:20210426T150000
DTEND;TZID=America/New_York:20210426T160000
DTSTAMP:20260422T143809
CREATED:20210407T192327Z
LAST-MODIFIED:20210407T192327Z
UID:11116-1619449200-1619452800@victimbar.org
SUMMARY:Criminal vs. Civil cases: Understanding the Crucial Interplay for Sexual Abuse/Assault Victims
DESCRIPTION:Often\, victims of sexual assault and their families face many uncertainties and difficult choices in the aftermath of an assault\, including whether to hire an attorney and what to expect from a prosecutor versus a civil attorney. One of the most confusing aspects of our justice system is the interplay between the civil and criminal justice systems. This webinar will explain the differences between the two systems\, specifically as they pertain to sexual assault and abuse victims and what victims can expect from each of the systems. Attorneys Dave Ring and Matt Murphy will discuss their experience with both the criminal and civil justice system  through their work and what victim advocates and other victim services professionals need to know when assisting victims of sexual assault and abuse.
URL:https://victimbar.org/event/criminal-vs-civil-cases-understanding-the-crucial-interplay-for-sexual-abuse-assault-victims/
LOCATION:PA
CATEGORIES:CJS,Webinar
ATTACH;FMTTYPE=image/png:https://victimbar.org/wp-content/uploads/2021/04/NCVBA-webinar-post-april.png
END:VEVENT
BEGIN:VEVENT
DTSTART;TZID=America/New_York:20201029T100000
DTEND;TZID=America/New_York:20201029T160000
DTSTAMP:20260422T143809
CREATED:20200916T123453Z
LAST-MODIFIED:20200916T123453Z
UID:9140-1603965600-1603987200@victimbar.org
SUMMARY:Civil Justice for Victims of Crime in West Virginia
DESCRIPTION:Many victims of crime do not pursue civil remedies because they are not aware of the benefits that the civil justice system can offer. Educated victim service providers are a key to raising awareness among victims about their civil justice rights. Because of this\, the National Crime Victim Bar Association\, NCVBA\, offers free\, full day\, civil justice seminars across the nation in order to educate victim service providers and advocates. The seminars provide a basic overview of the civil justice system so that advocates can inform victims of appropriate legal services and remedies to help them rebuild their lives.
URL:https://victimbar.org/event/civil-justice-for-victims-of-crime-in-west-virginia/
LOCATION:PA
CATEGORIES:CJS
END:VEVENT
BEGIN:VEVENT
DTSTART;TZID=America/New_York:20200226T100000
DTEND;TZID=America/New_York:20200226T160000
DTSTAMP:20260422T143809
CREATED:20200106T214236Z
LAST-MODIFIED:20200106T214236Z
UID:5965-1582711200-1582732800@victimbar.org
SUMMARY:Civil Justice for Victims of Crime in New York
DESCRIPTION:Many victims of crime do not pursue civil remedies because they are not aware of the benefits that the civil justice system can offer. Educated victim service providers are a key to raising awareness among victims about their civil justice rights. Because of this\, the National Crime Victim Bar Association\, NCVBA\, offers free\, full day\, civil justice seminars across the nation in order to educate victim service providers and advocates. The seminars provide a basic overview of the civil justice system so that advocates can inform victims of appropriate legal services and remedies to help them rebuild their lives.
URL:https://victimbar.org/event/civil-justice-for-victims-of-crime-in-new-york-2/
LOCATION:Safe Horizons\, 50 Court Street\, Suite 801\, Brooklyn\, NY\, 11201\, United States
CATEGORIES:CJS
END:VEVENT
BEGIN:VEVENT
DTSTART;TZID=America/New_York:20191113T100000
DTEND;TZID=America/New_York:20191113T160000
DTSTAMP:20260422T143809
CREATED:20191016T173704Z
LAST-MODIFIED:20191017T194316Z
UID:990-1573639200-1573660800@victimbar.org
SUMMARY:Civil Justice for Victims of Crime in Pennsylvania
DESCRIPTION:Many victims of crime do not pursue civil remedies because they are not aware of the benefits that the civil justice system can offer. Educated victim service providers are a key to raising awareness among victims about their civil justice rights. Because of this\, the National Crime Victim Bar Association\, NCVBA\, offers free\, full day\, civil justice seminars across the nation in order to educate victim service providers and advocates. The seminars provide a basic overview of the civil justice system so that advocates can inform victims of appropriate legal services and remedies to help them rebuild their lives.
URL:https://victimbar.org/event/civil-justice-for-victims-of-crime-in-pennsylvania/
LOCATION:Center for Victims\, 3433 East Carson St\, Pittsburgh\, PA\, 15203\, United States
CATEGORIES:CJS
ATTACH;FMTTYPE=image/jpeg:https://victimbar.org/wp-content/uploads/2019/10/cjs_seminar_pittsburgh_v01.jpg
END:VEVENT
BEGIN:VEVENT
DTSTART;TZID=America/New_York:20191107T100000
DTEND;TZID=America/New_York:20191107T160000
DTSTAMP:20260422T143809
CREATED:20190906T183334Z
LAST-MODIFIED:20191017T194403Z
UID:715-1573120800-1573142400@victimbar.org
SUMMARY:Civil Justice for Victims of Crime in Arizona
DESCRIPTION:Many victims of crime do not pursue civil remedies because they are not aware of the benefits that the civil justice system can offer. Educated victim service providers are a key to raising awareness among victims about their civil justice rights. Because of this\, the National Crime Victim Bar Association\, NCVBA\, offers free\, full day\, civil justice seminars across the nation in order to educate victim service providers and advocates. The seminars provide a basic overview of the civil justice system so that advocates can inform victims of appropriate legal services and remedies to help them rebuild their lives.
URL:https://victimbar.org/event/civil-justice-for-victims-of-crime-in-arizona/
LOCATION:Maricopa County Attorney’s Office\, 222 N Central Ave Ste. 154\, Phoenix\, AZ 85004\, Phoenix\, AZ\, 85003\, United States
CATEGORIES:CJS
ATTACH;FMTTYPE=image/jpeg:https://victimbar.org/wp-content/uploads/2019/09/cjs_seminar_arizona_v01.jpg
END:VEVENT
BEGIN:VEVENT
DTSTART;TZID=America/New_York:20191002T100000
DTEND;TZID=America/New_York:20191002T160000
DTSTAMP:20260422T143809
CREATED:20190906T183255Z
LAST-MODIFIED:20191017T194240Z
UID:713-1570010400-1570032000@victimbar.org
SUMMARY:Civil Justice for Victims of Crime in Washington
DESCRIPTION:Many victims of crime do not pursue civil remedies because they are not aware of the benefits that the civil justice system can offer. Educated victim service providers are a key to raising awareness among victims about their civil justice rights. Because of this\, the National Crime Victim Bar Association\, NCVBA\, offers free\, full day\, civil justice seminars across the nation in order to educate victim service providers and advocates. The seminars provide a basic overview of the civil justice system so that advocates can inform victims of appropriate legal services and remedies to help them rebuild their lives.
URL:https://victimbar.org/event/civil-justice-for-victims-of-crime-in-washington/
LOCATION:Phinney Neighborhood Association\, 6532 Phinney Ave N\, Seattle\, WA\, 98103\, United States
CATEGORIES:CJS
END:VEVENT
BEGIN:VEVENT
DTSTART;TZID=America/New_York:20190930T100000
DTEND;TZID=America/New_York:20190930T160000
DTSTAMP:20260422T143809
CREATED:20190906T183009Z
LAST-MODIFIED:20191017T193429Z
UID:705-1569837600-1569859200@victimbar.org
SUMMARY:Civil Justice for Victims of Crime in California
DESCRIPTION:Many victims of crime do not pursue civil remedies because they are not aware of the benefits that the civil justice system can offer. Educated victim service providers are a key to raising awareness among victims about their civil justice rights. Because of this\, the National Crime Victim Bar Association\, NCVBA\, offers free\, full day\, civil justice seminars across the nation in order to educate victim service providers and advocates. The seminars provide a basic overview of the civil justice system so that advocates can inform victims of appropriate legal services and remedies to help them rebuild their lives.
URL:https://victimbar.org/event/civil-justice-for-victims-of-crime-in-california/
LOCATION:San Francisco Law Library\, 1145 Market St.\, 4th Floor\, San Francisco\, CA\, 94103\, United States
CATEGORIES:CJS
END:VEVENT
BEGIN:VEVENT
DTSTART;TZID=America/New_York:20190912T100000
DTEND;TZID=America/New_York:20190912T160000
DTSTAMP:20260422T143809
CREATED:20190906T182942Z
LAST-MODIFIED:20190906T183034Z
UID:702-1568282400-1568304000@victimbar.org
SUMMARY:Civil Justice for Victims of Crime in New York
DESCRIPTION:
URL:https://victimbar.org/event/civil-justice-for-victims-of-crime-in-new-york/
LOCATION:Center for Elder Law and Justice\, 438 Main St #1200\, Buffalo\, NY\, 14202\, United States
CATEGORIES:CJS
END:VEVENT
END:VCALENDAR